BEGIN:VCALENDAR
VERSION:2.0
PRODID:-//鳥取県知的所有権センター - ECPv4.2.7//NONSGML v1.0//EN
CALSCALE:GREGORIAN
METHOD:PUBLISH
X-WR-CALNAME:鳥取県知的所有権センター
X-ORIGINAL-URL:https://tottorichizai.com
X-WR-CALDESC:Events for 鳥取県知的所有権センター
BEGIN:VEVENT
DTSTART;TZID=Asia/Tokyo:20160810T133000
DTEND;TZID=Asia/Tokyo:20160810T170000
DTSTAMP:20260422T043304
CREATED:20160708T021637
LAST-MODIFIED:20170821T083730
UID:242-1470835800-1470848400@tottorichizai.com
SUMMARY:(終了しました) 「平成28年度 初心者向け知的財産権制度説明会2016」が開催されます！
DESCRIPTION:「平成２8年度 初心者向け知的財産権制度説明会２０１6」が開催されます！\n\n\n\n\n\n\n\nこれから知的財産権を学びたい方、企業等において知財部門に新しく配属された方などの初心者を対象として、\n\n特許庁の産業財産権専門官が、知的財産権制度の概要を中心に、各種支援策や地域におけるサービス等を\n\n分かりやすく丁寧にご説明いたします。\n\n参加費は無料で、参加者には特許庁作成のテキストを無料配布しておりますので、この機会にぜひご参加ください。\n\n \n\n初心者向け知的財産権制度説明会2016 ちらし(中国・四国版)\n\n詳細はこちら→鳥取県発明協会ＨＰ\n\n\n\n\n\n\n
URL:https://tottorichizai.com/event/%e3%80%8c%e5%b9%b3%e6%88%9028%e5%b9%b4%e5%ba%a6-%e5%88%9d%e5%bf%83%e8%80%85%e5%90%91%e3%81%91%e7%9f%a5%e7%9a%84%e8%b2%a1%e7%94%a3%e6%a8%a9%e5%88%b6%e5%ba%a6%e8%aa%ac%e6%98%8e%e4%bc%9a2016%e3%80%8d/
LOCATION:鳥取市尚徳町101-5\, 鳥取市\, 鳥取県\, 680-0017 \, Japan
CATEGORIES:セミナー
ATTACH;FMTTYPE=image/jpeg:https://tottorichizai.com/wp/wp-content/uploads/2016/07/e6a52aa1d05b46839ae9985bf1ec53fa-e1469673994231.jpg
ORGANIZER;CN="%E7%89%B9%E8%A8%B1%E5%BA%81":MAILTO:h28_shoshinsha@jiii.or.jp
END:VEVENT
END:VCALENDAR