BEGIN:VCALENDAR
VERSION:2.0
PRODID:-//鳥取県知的所有権センター - ECPv4.2.7//NONSGML v1.0//EN
CALSCALE:GREGORIAN
METHOD:PUBLISH
X-WR-CALNAME:鳥取県知的所有権センター
X-ORIGINAL-URL:https://tottorichizai.com
X-WR-CALDESC:Events for 鳥取県知的所有権センター
BEGIN:VEVENT
DTSTART;VALUE=DATE:20161113
DTEND;VALUE=DATE:20161113
DTSTAMP:20260422T043315
CREATED:20160728
LAST-MODIFIED:20170821
UID:310-1478995200-1479081599@tottorichizai.com
SUMMARY:「第58回鳥取県発明くふう展」・「第16回鳥取県未来の科学の夢絵画展」 表彰式開催日時決定しました！
DESCRIPTION:「第58回鳥取県発明くふう展」・「第16回鳥取県未来の科学の夢絵画展」 表彰式開催日時・開催地が決定しました。\n\n \n\n日時：平成２８年１１月１３日(日)\n\n場所：鳥取市国府町コミュニティーセンター (鳥取市国府町庁380)\n\n \n\n:-P たくさんのご応募作品をお待ちしております  :-P
URL:https://tottorichizai.com/event/%e3%80%8c%e7%ac%ac58%e5%9b%9e%e9%b3%a5%e5%8f%96%e7%9c%8c%e7%99%ba%e6%98%8e%e3%81%8f%e3%81%b5%e3%81%86%e5%b1%95%e3%80%8d%e3%83%bb%e3%80%8c%e7%ac%ac16%e5%9b%9e%e9%b3%a5%e5%8f%96%e7%9c%8c%e6%9c%aa/
LOCATION:国府町庁380\, 鳥取市\, 鳥取県\, 680-0152 \, Japan
CATEGORIES:イベント
ATTACH;FMTTYPE=image/jpeg:https://tottorichizai.com/wp/wp-content/uploads/2016/07/02b00c15fc42db738ac2a7cf1c72fbcc.jpg
ORGANIZER;CN="%28%E4%B8%80%E7%A4%BE%29%20%E9%B3%A5%E5%8F%96%E7%9C%8C%E7%99%BA%E6%98%8E%E5%8D%94%E4%BC%9A":MAILTO:hatsu@toriton.or.jp
END:VEVENT
END:VCALENDAR