BEGIN:VCALENDAR
VERSION:2.0
PRODID:-//鳥取県知的所有権センター - ECPv4.2.7//NONSGML v1.0//EN
CALSCALE:GREGORIAN
METHOD:PUBLISH
X-WR-CALNAME:鳥取県知的所有権センター
X-ORIGINAL-URL:https://tottorichizai.com
X-WR-CALDESC:Events for 鳥取県知的所有権センター
BEGIN:VEVENT
DTSTART;VALUE=DATE:20190603
DTEND;VALUE=DATE:20190625
DTSTAMP:20260422T121207
CREATED:20190228
LAST-MODIFIED:20190515
UID:2492-1559520000-1561507199@tottorichizai.com
SUMMARY:【終了しました】『とっとり知財塾～知的財産管理技能検定３級対策講座～』鳥取会場　
DESCRIPTION:【満員御礼！】\n定員に達しましたので募集を締め切りました。　　　　　　　　　　　　　　　　　たくさんのお申し込みを有難うございました。\n \n\n全４回　時間はすべて午後１時３０分～４時３０分\n\n \n\n◆第１回　２０１９年６月　３日（月）　　本講座のガイダンス、特許法\n\n◆第２回　２０１９年６月１１日（火）　　特許法、条約、民放・独占禁止法\n\n◆第３回　２０１９年６月１７日（月）　　意匠法、商標法、その他関連法規\n\n◆第４回　２０１９年６月２５日（火）　　実戦形式の検定過去問題答練\n\n \n\n場所：とりぎん文化会館　２階　第４会議室\n\n \n\n★詳細は鳥取県産業振興機構のＨＰをご参照ください　→こちら
URL:https://tottorichizai.com/event/%e3%80%8e%e3%81%a8%e3%81%a3%e3%81%a8%e3%82%8a%e7%9f%a5%e8%b2%a1%e5%a1%be%ef%bd%9e%e7%9f%a5%e7%9a%84%e8%b2%a1%e7%94%a3%e7%ae%a1%e7%90%86%e6%8a%80%e8%83%bd%e6%a4%9c%e5%ae%9a%ef%bc%93%e7%b4%9a%e5%af%be-2/
LOCATION:鳥取市尚徳町101-5\, 鳥取市\, 鳥取県\, 680-0017 \, Japan
CATEGORIES:セミナー
ATTACH;FMTTYPE=image/jpeg:https://tottorichizai.com/wp/wp-content/uploads/2019/02/503d3213333b90966d75ce13fe9a030b.jpg
ORGANIZER;CN="%E5%85%AC%E7%9B%8A%E8%B2%A1%E5%9B%A3%E6%B3%95%E4%BA%BA%E9%B3%A5%E5%8F%96%E7%9C%8C%E7%94%A3%E6%A5%AD%E6%8C%AF%E8%88%88%E6%A9%9F%E6%A7%8B%20%E7%9F%A5%E7%9A%84%E6%89%80%E6%9C%89%E6%A8%A9%E3%82%BB%E3%83%B3%E3%82%BF%E3%83%BC":MAILTO:chizai@toriton.or.jp
END:VEVENT
END:VCALENDAR