BEGIN:VCALENDAR
VERSION:2.0
PRODID:-//鳥取県知的所有権センター - ECPv4.2.7//NONSGML v1.0//EN
CALSCALE:GREGORIAN
METHOD:PUBLISH
X-WR-CALNAME:鳥取県知的所有権センター
X-ORIGINAL-URL:https://tottorichizai.com
X-WR-CALDESC:Events for 鳥取県知的所有権センター
BEGIN:VEVENT
DTSTART;TZID=Asia/Tokyo:20170126T150000
DTEND;TZID=Asia/Tokyo:20170126T170000
DTSTAMP:20260422T143217
CREATED:20161222T062510
LAST-MODIFIED:20170821T084437
UID:602-1485442800-1485450000@tottorichizai.com
SUMMARY:(終了しました) 中小企業向け知的財産セミナー【鳥取県開催】 ～模倣品はピンチ？困った？いや、チャンスと捉えて商品力を上げよう！ ～
DESCRIPTION:中国経済産業局より中小企業のみなさまへ、知的財産を戦略的に活用していただくセミナー開催のお知らせです。\n\n会場及びお申込詳細等は、下記をご参照下さい。\n\n \n\n●　日時：平成２９年１月２６日（木）　１５：００～１７：００ (受付:１４:３０～)\n\n●　場所：鳥取市総合福祉センター　(高齢者福祉センター研修室)　（鳥取県鳥取市富安2丁目104-1）\n\n●　お申込み方法はこちらをご覧ください→模倣品はピンチ?困った?いや、チャンスと捉えて商品力を上げよう! \n\n●　お問い合せ先　平成28年度中小企業向け知的財産セミナー事業事務局(株式会社アシスト内)\n\n●　電話:082-541-5888\n\n \n\n【応募締切】\n\n平成29年1月20日(金)まで\n\n 
URL:https://tottorichizai.com/event/%e4%b8%ad%e5%b0%8f%e4%bc%81%e6%a5%ad%e5%90%91%e3%81%91%e7%9f%a5%e7%9a%84%e8%b2%a1%e7%94%a3%e3%82%bb%e3%83%9f%e3%83%8a%e3%83%bc%e3%80%90%e9%b3%a5%e5%8f%96%e7%9c%8c%e9%96%8b%e5%82%ac%e3%80%91-%ef%bd%9e/
LOCATION:鳥取市富安2丁目104-1\, 鳥取\, 鳥取県\, 680-0845\, Japan
CATEGORIES:セミナー
ATTACH;FMTTYPE=image/jpeg:https://tottorichizai.com/wp/wp-content/uploads/2016/12/f19cbc0d5f9fd03935efe1806e539374.jpg
ORGANIZER;CN="%E4%B8%AD%E5%9B%BD%E5%9C%B0%E5%9F%9F%E7%9F%A5%E7%9A%84%E8%B2%A1%E7%94%A3%E6%88%A6%E7%95%A5%E6%9C%AC%E9%83%A8%E3%80%81%E4%B8%AD%E5%9B%BD%E7%B5%8C%E6%B8%88%E7%94%A3%E6%A5%AD%E5%B1%80":MAILTO:chizai@assistinc.co.jp
END:VEVENT
END:VCALENDAR