BEGIN:VCALENDAR
VERSION:2.0
PRODID:-//鳥取県知的所有権センター - ECPv4.2.7//NONSGML v1.0//EN
CALSCALE:GREGORIAN
METHOD:PUBLISH
X-WR-CALNAME:鳥取県知的所有権センター
X-ORIGINAL-URL:https://tottorichizai.com
X-WR-CALDESC:Events for 鳥取県知的所有権センター
BEGIN:VEVENT
DTSTART;TZID=Asia/Tokyo:20160728T140000
DTEND;TZID=Asia/Tokyo:20160728T175000
DTSTAMP:20260422T054746
CREATED:20160728T025444
LAST-MODIFIED:20170821T083705
UID:301-1469714400-1469728200@tottorichizai.com
SUMMARY:(終了しました) 平成28年度営業秘密・知財戦略セミナー～あなたの会社の独自技術をシッカリ守り、活かすために～
DESCRIPTION:近年、重要な技術情報が第三者へ漏洩する技術流出が問題となっており、\n\n大企業に限らず中小企業においても大きな経営リスクとなっています。\n\nたとえば、貴社が保有する金型図面や金型加工データ等が他社に流出した場合、\n\nそっくりモノマネした模倣品が発生し、取引先が奪われてしまうかもしれません。\n\nあるいは、海外企業が貴社の重要な設計図や製造ノウハウを狙っているかもしれません。\n\nまた、貴社に新たなアイデアやノウハウが生まれた際に、特許による権利化を行うか、\n\n営業秘密として秘匿化するかなどといった知財戦略が経営上、重要となっています。\n\nこのような背景を踏まえ、（独）工業所有権情報・研修館では、営業秘密の管理・活用方法及び\n\n知財戦略に関するセミナーを開催いたします。是非ともご参加ください！\n\n \n\n＊　会場及びお申込詳細等は、下記をご参照下さい。\n\n〔鳥取会場〕\n\n日時：平成２８年７月２８日（木）　１４：００～１７：５０\n\n場所：鳥取県立生涯学習センター　４Ｆ中研修室２　（鳥取県鳥取市扇町２１番地）\n\n詳しくはこちら→独立行政法人 工業所有権情報・研修館ＨＰ\n\n \n\n【お問い合せ先】\n\n◇申込やキャンセルのお問い合わせ：日本旅行公務法人営業部 ECP営業部\n\n電話：03-5402-6401\n\n◇内容に関するお問い合わせ：（独）工業所有権情報・研修館　知財戦略部\n\n電話：（代表）03-3581-1101　内線3841　メール：trade-secret@inpit.jpo.go.jp\n\n \n\n \n\n \n\n 
URL:https://tottorichizai.com/event/%e5%b9%b3%e6%88%9028%e5%b9%b4%e5%ba%a6%e5%96%b6%e6%a5%ad%e7%a7%98%e5%af%86%e3%83%bb%e7%9f%a5%e8%b2%a1%e6%88%a6%e7%95%a5%e3%82%bb%e3%83%9f%e3%83%8a%e3%83%bc%ef%bd%9e%e3%81%82%e3%81%aa%e3%81%9f%e3%81%ae/
LOCATION:扇町21番地\, 鳥取市\, 鳥取県\, 680-0846\, Japan
CATEGORIES:セミナー
ATTACH;FMTTYPE=image/jpeg:https://tottorichizai.com/wp/wp-content/uploads/2016/07/11234d09531729431e61147980bdc0b9-e1469673925824.jpg
END:VEVENT
END:VCALENDAR