BEGIN:VCALENDAR
VERSION:2.0
PRODID:-//鳥取県知的所有権センター - ECPv4.2.7//NONSGML v1.0//EN
CALSCALE:GREGORIAN
METHOD:PUBLISH
X-WR-CALNAME:鳥取県知的所有権センター
X-ORIGINAL-URL:https://tottorichizai.com
X-WR-CALDESC:Events for 鳥取県知的所有権センター
BEGIN:VEVENT
DTSTART;VALUE=DATE:20161112
DTEND;VALUE=DATE:20161113
DTSTAMP:20260422T144805
CREATED:20161002
LAST-MODIFIED:20170821
UID:413-1478908800-1479081599@tottorichizai.com
SUMMARY:(終了しました) H２８・11/12 (土) ・11/13 (日) 開催☆「 子ども発明教室」～七色に光るマジックライトをつくろう!!～および～「楽しいサイエンス講座」～おもしろ科学サイエンスショー＆永遠に飛ぶ紙飛行機をつくろう～ について
DESCRIPTION:　２０１６年１１月１２日(土)開催　「 子ども発明教室」\n\n　　～七色に光るマジックライトをつくろう!!～\n\n 11/12(土)　「子ども発明教室」は申込定員に達しました。たくさんのお申込みありがとうございました！\n\n\n\n　２０１６年１１月１３日 (日)開催　「楽しいサイエンス講座」\n\n　　～おもしろ科学サイエンスショー＆永遠に飛ぶ紙飛行機をつくろう～\n\n 11/13(日)　「楽しいサイエンス講座」は申込定員に達しました。たくさんのお申込みありがとうございました！\n\n詳しくは鳥取県発明協会HPよりチェック！→鳥取県発明協会HP\n\n \n\n \n\n \n\n \n\n 
URL:https://tottorichizai.com/event/h%ef%bc%92%ef%bc%98%e3%83%bb1112-%e5%9c%9f-%e3%83%bb1113-%e6%97%a5-%e9%96%8b%e5%82%ac%e2%98%86%e3%80%8c-%e5%ad%90%e3%81%a9%e3%82%82%e7%99%ba%e6%98%8e%e6%95%99%e5%ae%a4%e3%80%8d%ef%bd%9e%e4%b8%83/
LOCATION:鳥取県鳥取市国府町庁380\, 鳥取市\, 鳥取県\, 680-0152 \, Japan
CATEGORIES:イベント
ATTACH;FMTTYPE=image/jpeg:https://tottorichizai.com/wp/wp-content/uploads/2016/10/00c75dc2e44031e3e7acb7bfee1acec4.jpg
ORGANIZER;CN="%28%E4%B8%80%E7%A4%BE%29%20%E9%B3%A5%E5%8F%96%E7%9C%8C%E7%99%BA%E6%98%8E%E5%8D%94%E4%BC%9A":MAILTO:hatsu@toriton.or.jp
END:VEVENT
END:VCALENDAR