BEGIN:VCALENDAR
VERSION:2.0
PRODID:-//鳥取県知的所有権センター - ECPv4.2.7//NONSGML v1.0//EN
CALSCALE:GREGORIAN
METHOD:PUBLISH
X-WR-CALNAME:鳥取県知的所有権センター
X-ORIGINAL-URL:https://tottorichizai.com
X-WR-CALDESC:Events for 鳥取県知的所有権センター
BEGIN:VEVENT
DTSTART;TZID=Asia/Tokyo:20171202T143000
DTEND;TZID=Asia/Tokyo:20171202T153000
DTSTAMP:20260421T162415
CREATED:20171003T051306
LAST-MODIFIED:20171115T103759
UID:1380-1512225000-1512228600@tottorichizai.com
SUMMARY:H29.12.2 (土) 開催☆「楽しいサイエンス講座」～笑ってタメになる「ボルトボルズ」のサイエンスショー～ について ※応募申込終了しました
DESCRIPTION:「楽しいサイエンス講座」\n\n　　　"笑ってタメになる「ボルトボルズ」のサイエンスショー"\n\n \n\n \nお申込み定員に達しましたので、申込みフォームを終了しました。\nたくさんのお申込みありがとうございました。 \n \n\n \n\n \n\nH29.12.2 開催 楽しいサイエンス講座ちらし(PDFファイル1.50MB)\n※PDFをご覧頂くにはアドビリーダーが必要です。お持ちでない方はこちらからダウンロードしてください。\n\n \n\n \n\n【日　時】　平成２９年１２月２日（土）  午後２時３０分～午後３時３０分\n\n　　　　　　　(受付開始時間：午後１時３０分～ )\n\n \n\n【会　場】　国府町コミュニティセンター　１階 「多目的ホール」\n\n　　　　　　　（鳥取市国府町庁３８０）\n\n \n\n【講　師】　お笑いコンビ「ボルトボルズ」 (松竹芸能(株) 所属)  \n\n            　   　　※松竹芸能 ボルトボルズページ はこちら\n\n \n\n【定　員】　先着１８０人 (観覧保護者・家族含む)\n\n \n\n【対　象】　鳥取県在住の小学生ならびに保護者\n\n　　　　　　および鳥取県発明協会協賛会員\n\n \n\n【参加費】　無料\n\n \n\n【その他】　児童のみ参加も可能です。\n\n　　　　　　保護者・家族などお席が必要な方全てお申込みが必要となります。\n\n \n\n ※先着順になりますので、定員に達し次第、フォーム閲覧ページを閉鎖いたします。\n\nお申込みのタイミングや、申込み状況により定員に達した場合は、後ほどご連絡させていただきますのであらかじめご了承ください。\n\n \n\n【申し込み・連絡先】\n\n　　　一般社団法人鳥取県発明協会\n\n　　　〒689-1112　鳥取市若葉台南７丁目5-1 鳥取県産業振興機構１Ｆ\n\n　　　TEL:0857-52-6728　FAX:0857-52-6674　E-mail:hatsu@toriton.or.jp　　　　\n\n        　担当：北村   rkitamura@toriton.or.jp\n\n 
URL:https://tottorichizai.com/event/h29-12-2-%e5%9c%9f-%e9%96%8b%e5%82%ac%e2%98%86%e3%80%8c%e6%a5%bd%e3%81%97%e3%81%84%e3%82%b5%e3%82%a4%e3%82%a8%e3%83%b3%e3%82%b9%e8%ac%9b%e5%ba%a7%e3%80%8d%ef%bd%9e%e7%ac%91%e3%81%a3%e3%81%a6/
LOCATION:鳥取県鳥取市国府町庁380\, 鳥取市\, 鳥取県\, 680-0152 \, Japan
CATEGORIES:イベント
ATTACH;FMTTYPE=image/jpeg:https://tottorichizai.com/wp/wp-content/uploads/2017/10/09757d746f985e00a4440da4150d4f4f.jpg
ORGANIZER;CN="%28%E4%B8%80%E7%A4%BE%29%E9%B3%A5%E5%8F%96%E7%9C%8C%E7%99%BA%E6%98%8E%E5%8D%94%E4%BC%9A%E3%83%BB%E9%B3%A5%E5%8F%96%E7%9C%8C":MAILTO:hatsu@toriton.or.jp
END:VEVENT
END:VCALENDAR