BEGIN:VCALENDAR
VERSION:2.0
PRODID:-//鳥取県知的所有権センター - ECPv4.2.7//NONSGML v1.0//EN
CALSCALE:GREGORIAN
METHOD:PUBLISH
X-WR-CALNAME:鳥取県知的所有権センター
X-ORIGINAL-URL:https://tottorichizai.com
X-WR-CALDESC:Events for 鳥取県知的所有権センター
BEGIN:VEVENT
DTSTART;TZID=Asia/Tokyo:20170804T133000
DTEND;TZID=Asia/Tokyo:20170804T153000
DTSTAMP:20260424T201211
CREATED:20170607T060835
LAST-MODIFIED:20170821T090048
UID:1052-1501853400-1501860600@tottorichizai.com
SUMMARY:(終了しました) H29.8.4 (金) 開催☆「 楽しいサイエンス講座」～わくわくサイエンスショー＆ビックリ袋を作って科学しよう！～ について
DESCRIPTION:楽しいサイエンス講座 「わくわくサイエンスショー＆ビックリ袋を作って科学しよう！」\nH29.8.4 開催 楽しいサイエンス講座ちらし(PDFファイル1.99MB)\n\n \n\nたくさんのご参加ありがとうございました！\n\n \n\n【日　時】　平成２９年８月４日（金）  午後１時３０分～午後３時３０分\n　　　　　　※午後１２時３０分～ 受付スタート (受付開始時刻が変更となっております)\n\n【会　場】　米子コンベンションセンター「小ホール」 （鳥取県米子市末広町２９４）\n\n【講　師】　サイエンス演芸師「善ちゃん」 (ポピュラーサイエンス研究所 代表：北沢 善一氏)\n※ポピュラーサイエンス研究所ホームページ はこちら \n【定　員】　先着２００人\n【対　象】　鳥取県在住の小学生および鳥取県発明協会協賛会員\n【参加費】　３００円\n【その他】　児童のみ参加も可能です。※付き添いの保護者の方は後方席での閲覧となります。\n\n \n\n【申し込み方法】\n\n①ＷＥＢ専用申込みフォーム限定　(鳥取県発明協会ホームページ http://www.toriton.or.jp/~thatsu/ )\n\n※申込みフォーム→→　お申込みを締め切りました。たくさんのお申込みありがとうございました。\n\nお申込みのタイミングや、申込み状況により定員に達した場合は、後ほどご連絡させていただきますのであらかじめご了承ください。\n\n \n\n【申し込み・連絡先】\n\n一般社団法人鳥取県発明協会\n\n〒689-1112　鳥取市若葉台南７丁目5-1 鳥取県産業振興機構１Ｆ\n\nTEL:0857-52-6728　FAX:0857-52-6674　E-mail:hatsu@toriton.or.jp\n\n担当：北村   rkitamura@toriton.or.jp\n
URL:https://tottorichizai.com/event/h29-8-4-%e9%87%91-%e9%96%8b%e5%82%ac%e2%98%86%e3%80%8c-%e6%a5%bd%e3%81%97%e3%81%84%e3%82%b5%e3%82%a4%e3%82%a8%e3%83%b3%e3%82%b9%e8%ac%9b%e5%ba%a7%e3%80%8d%ef%bd%9e%e3%82%8f%e3%81%8f%e3%82%8f/
LOCATION:米子市末広町294\, 米子市\, 鳥取県\, 683-0043\, Japan
CATEGORIES:イベント
ATTACH;FMTTYPE=image/jpeg:https://tottorichizai.com/wp/wp-content/uploads/2017/06/5621deba8a18b839c7a4321764bb05e8-1.jpg
ORGANIZER;CN="%28%E4%B8%80%E7%A4%BE%29%E9%B3%A5%E5%8F%96%E7%9C%8C%E7%99%BA%E6%98%8E%E5%8D%94%E4%BC%9A%E3%83%BB%E9%B3%A5%E5%8F%96%E7%9C%8C":MAILTO:hatsu@toriton.or.jp
END:VEVENT
END:VCALENDAR